BEGIN:VCALENDAR
VERSION:2.0
PRODID:-//wp-events-plugin.com//7.2.3.1//EN
TZID:Europe/Berlin
X-WR-TIMEZONE:Europe/Berlin
BEGIN:VEVENT
UID:44@fotoclubiris.de
DTSTART;TZID=Europe/Berlin:20260414T180000
DTEND;TZID=Europe/Berlin:20260414T200000
DTSTAMP:20260327T151942Z
URL:https://www.fotoclubiris.de/events/clubabend-41/
SUMMARY:Clubabend
DESCRIPTION:&nbsp\;\nThema Monatsbild: „Wind- und Wassermühlen“&nbsp\;
  Einsendeschluss: 12.04.2026 12:00 Uhr\nWind- und Wassermühlen sind histo
 rische Kraftmaschinen\, die natürliche Energiequellen nutzen\, um mechani
 sche Arbeit – meist das Mahlen von Getreide – zu verrichten. Während 
 Wassermühlen die Fließkraft von Bächen und Flüssen nutzen\, wandeln Wi
 ndmühlen die Energie des Windes um.\nTipp: Jedes Jahr am Pfingstmontag fi
 ndet der Deutsche Mühlentag statt\, an dem Hunderte historische Mühlen i
 hre Türen für Besucher öffnen und ihre Technik vorführen.\n&nbsp\;
LOCATION:Kulturverein Wolmirstedt Bürgerhaus e.V.\, Schlossdomäne 2\, Wol
 mirstedt\, Sachsen-Anhalt\, 39326\, Deutschland
X-APPLE-STRUCTURED-LOCATION;VALUE=URI;X-ADDRESS=Schlossdomäne 2\, Wolmirst
 edt\, Sachsen-Anhalt\, 39326\, Deutschland;X-APPLE-RADIUS=100;X-TITLE=Kult
 urverein Wolmirstedt Bürgerhaus e.V.:geo:0,0
END:VEVENT
BEGIN:VTIMEZONE
TZID:Europe/Berlin
X-LIC-LOCATION:Europe/Berlin
BEGIN:DAYLIGHT
DTSTART:20260329T030000
TZOFFSETFROM:+0100
TZOFFSETTO:+0200
TZNAME:CEST
END:DAYLIGHT
END:VTIMEZONE
END:VCALENDAR